BEGIN:VCALENDAR
VERSION:2.0
PRODID:-//ORDICIEL
CALSCALE:GREGORIAN
METHOD:PUBLISH
X-WR-CALNAME:ORDICIEL
X-ORIGINAL-URL:https://www.ordiciel.ma/event/seat/
X-WR-CALDESC:Science In The New Era
BEGIN:VEVENT
DTSTART:20140827T080000
DTEND:20140827T120000
SUMMARY:Science In The New Era
DESCRIPTION:On the other hand, we denounce with righteous indignation and dislike men who are so beguiled and demoralized by the charms of pleasure of the moment, so blinded by desire.
LOCATION:Bentley Campus, Perth, WA
END:VEVENT
END:VCALENDAR
