BEGIN:VCALENDAR
VERSION:2.0
PRODID:-//ORDICIEL
CALSCALE:GREGORIAN
METHOD:PUBLISH
X-WR-CALNAME:ORDICIEL
X-ORIGINAL-URL:https://www.ordiciel.ma/event/strategy-for-diabetes-treatment/
X-WR-CALDESC:Strategy For Treatment
BEGIN:VEVENT
DTSTART:20140811T130000
DTEND:20140811T170000
SUMMARY:Strategy For Treatment
DESCRIPTION:But in certain circumstances and owing to the claims of duty or the obligations of business it will frequently occur that pleasures.
LOCATION:Bentley Campus, Perth, WA
END:VEVENT
END:VCALENDAR
